BEGIN:VCALENDAR
VERSION:2.0
PRODID:-//Jota Expedições - ECPv6.15.1.1//NONSGML v1.0//EN
CALSCALE:GREGORIAN
METHOD:PUBLISH
X-WR-CALNAME:Jota Expedições
X-ORIGINAL-URL:https://jotaexpedicoes.com.br
X-WR-CALDESC:Eventos para Jota Expedições
REFRESH-INTERVAL;VALUE=DURATION:PT1H
X-Robots-Tag:noindex
X-PUBLISHED-TTL:PT1H
BEGIN:VTIMEZONE
TZID:America/Sao_Paulo
BEGIN:STANDARD
TZOFFSETFROM:-0300
TZOFFSETTO:-0300
TZNAME:-03
DTSTART:20260101T000000
END:STANDARD
END:VTIMEZONE
BEGIN:VEVENT
DTSTART;VALUE=DATE:20261030
DTEND;VALUE=DATE:20261103
DTSTAMP:20260423T204536
CREATED:20260202T214614Z
LAST-MODIFIED:20260202T214627Z
UID:1504-1793318400-1793663999@jotaexpedicoes.com.br
SUMMARY:CANASTRA - CAPITÓLIO - SAIBA MAIS
DESCRIPTION:Tem um 4×4? Bora conhecer o paraíso em Minas Gerais \n😎 Viagem imperdível! Passa por muitos atrativos naturais como cachoeiras\, mirantes\, além de travessias e desafios offroad 🚜 \n🗓 QUANDO? 🗓\nDe 30/10 a 2/11 – Feriado de finados \n🗺 PARTE DE ONDE? 🗺\nHotel em Capitólio – MG \n🏞⛰☀️ CONHEÇA ☀️⛰🏞 \n🚘 Dia 1 – Deslocamento\, passeio de barco e confraternização 🛥️\nViaje tranquilo até nosso confortável hotel e encontre o pessoal para a confraternização de boas vindas. Faça um passeio de barco nos mais belos atrativos do lago de Furnas \n😎 Dia 2 – Rota da Pedreira 🥂\nCurta dois complexos de cachoeiras nesse dia\, além de um final de tarde mágico em uma pedreira com água cristalina e quentinha.\nAlmoço delicioso com buffet mineiro à vontade \n🚜 Dia 3 – Rota Cachoeiras 📸\nAproveite as muitas quedas e piscinas naturais em dois complexos de cachoeiras maravilhosas! São muitas opções.\nAlmoço mineiro delicioso e caseiro. Pôr do sol em mirante. \n💦 Dia 4 – Mirante dos cânions e despedida ⛰️\nFaça o último passeio no Mirante dos cânions\, o cartão postal de Capitólio.\nFinalize a expedição com um delicioso almoço na marina\nRetorne para a casa cansado fisicamente mas renovado mentalmente \nDICA: A CANASTRA É MUITO GRANDE PARA CONHECER EM UMA ÚNICA VIAGEM\nOs deslocamentos se tornam muito grandes e cansativos e você deixa de curtir melhor os atrativos. É por esse motivo que Jota Expedições tem 5 roteiros na Canastra para proporcionar a você uma melhor experiência \n😎 GOSTOU NÉ? QUER IR? 😎\nEnvie um WhatsApp para 11-96407-0127\nLIMITADO A 11 CARROS \n 
URL:https://jotaexpedicoes.com.br/calendario/canastra-capitolio-saiba-mais/
CATEGORIES:Expedição
ATTACH;FMTTYPE=image/jpeg:https://jotaexpedicoes.com.br/wp-content/uploads/13-1.jpg
END:VEVENT
BEGIN:VEVENT
DTSTART;VALUE=DATE:20261119
DTEND;VALUE=DATE:20261123
DTSTAMP:20260423T204536
CREATED:20260202T215029Z
LAST-MODIFIED:20260202T215216Z
UID:1502-1795046400-1795391999@jotaexpedicoes.com.br
SUMMARY:SERRA DAS BROAS - SAIBA MAIS
DESCRIPTION:Tire seu 4×4 da garagem\, leve a família para o paraíso das cachoeiras! 🙂 \n😎 Viagem imperdível! Passa por muitos mirantes e cachoeiras\, além de desafios off road 💪🏻 \n🗓 QUANDO? 🗓\nDe 19 a 22/11 – Feriado de consciência negra \n🗺 PARTE DE ONDE? 🗺\n– Restaurante em Cruzilia – MG \n🏞⛰☀️ CONHEÇA ☀️⛰🏞 \n🚘 Dia 1 – Deslocamento\, almoço e Estrada Real 🥳\n– Viaje no seu ritmo até o restaurante em Cruzilia e encontre os amigos\n– Percorra o trecho da Estrada Real até Carrancas – MG \n😎 Dia 2 – Cachoeiras e desafios\n– Conheça dois complexos com muitas cachoeiras e águas cristalinas\n– Almoço mineiro estilo caipira\n– Desafios 4×4 e mirante no final da tarde \n🚜 Dia 3 – 📸 Serra das Broas\n– Visite um complexo de cachoeiras e veja pinturas rupestres milenares\n– Enfrente desafios no caminho até um belo mirante \n💦 Dia 4 – Caverna\, cachoeiras e retorno 🚗\n– Conheça uma bela caverna e um complexo de cachoeiras de tirar o fôlego\n– Almoce e retorne para a casa com maravilhosas lembranças \n😎 GOSTOU NÉ? QUER IR? 😎\nInteressados devem enviar um WhatsApp para 11-96407-0127\nCorre que as vagas são LIMITADAS A 9 VIATURAS \n \n 
URL:https://jotaexpedicoes.com.br/calendario/serra-das-broas-saiba-mais/
LOCATION:Carrancas e Cruzília – MG
CATEGORIES:Expedição
ATTACH;FMTTYPE=image/jpeg:https://jotaexpedicoes.com.br/wp-content/uploads/14-1.jpg
END:VEVENT
END:VCALENDAR