BEGIN:VCALENDAR
VERSION:2.0
PRODID:-//Jota Expedições - ECPv6.15.1.1//NONSGML v1.0//EN
CALSCALE:GREGORIAN
METHOD:PUBLISH
X-ORIGINAL-URL:https://jotaexpedicoes.com.br
X-WR-CALDESC:Eventos para Jota Expedições
REFRESH-INTERVAL;VALUE=DURATION:PT1H
X-Robots-Tag:noindex
X-PUBLISHED-TTL:PT1H
BEGIN:VTIMEZONE
TZID:America/Sao_Paulo
BEGIN:STANDARD
TZOFFSETFROM:-0300
TZOFFSETTO:-0300
TZNAME:-03
DTSTART:20260101T000000
END:STANDARD
END:VTIMEZONE
BEGIN:VEVENT
DTSTART;VALUE=DATE:20260123
DTEND;VALUE=DATE:20260126
DTSTAMP:20260423T155427
CREATED:20251128T152400Z
LAST-MODIFIED:20251128T214102Z
UID:1465-1769126400-1769385599@jotaexpedicoes.com.br
SUMMARY:ILHA COMPRIDA - SAIBA MAIS
DESCRIPTION:Tem um 4×4? Bora rodar com pneu na areia \n😎 Viagem imperdível! Passa por muitos atrativos naturais como dunas\, praias e rios\, além de travessias e desafios offroad 🚜 \n🗓 QUANDO? 🗓\nDe 23 a 25/1 – Mini Expedição \n🗺 PARTE DE ONDE? 🗺\nHotel em Ilha Comprida-SP \n🏞⛰☀️ CONHEÇA ☀️⛰🏞 \n🚘 Dia 1 – Deslocamento\, jantar e confraternização 🥂\nViaje tranquilo até nosso confortável hotel e encontre o pessoal para a confraternização de boas vindas \n😎 Dia 2 – Passeio na praia 💦\nCurta um dia rodando de 4×4 na praia com paradas para banho em rios e no mar\nDivirta-se em uma trilha 4×4 com lama e passe com seu carro em tobogãs de dunas de areia \n🚜 Dia 3 – Trilha dos alagados 📸\nEnfrente desafios 4×4 em uma trilha sensacional com muitas travessias\nAlmoço de despedida e retorno para casa \n😎 GOSTOU NÉ? QUER IR? 😎\nEnvie um WhatsApp para 11-96407-0127\nLIMITADO A 11 CARROS
URL:https://jotaexpedicoes.com.br/calendario/ilha-comprida-saiba-mais/
LOCATION:Ilha Comprida – SP
CATEGORIES:Mini Expedição
ATTACH;FMTTYPE=image/jpeg:https://jotaexpedicoes.com.br/wp-content/uploads/2-1.jpg
END:VEVENT
END:VCALENDAR