BEGIN:VCALENDAR
VERSION:2.0
PRODID:-//Jota Expedições - ECPv6.15.1.1//NONSGML v1.0//EN
CALSCALE:GREGORIAN
METHOD:PUBLISH
X-ORIGINAL-URL:https://jotaexpedicoes.com.br
X-WR-CALDESC:Eventos para Jota Expedições
REFRESH-INTERVAL;VALUE=DURATION:PT1H
X-Robots-Tag:noindex
X-PUBLISHED-TTL:PT1H
BEGIN:VTIMEZONE
TZID:America/Sao_Paulo
BEGIN:STANDARD
TZOFFSETFROM:-0300
TZOFFSETTO:-0300
TZNAME:-03
DTSTART:20230101T000000
END:STANDARD
END:VTIMEZONE
BEGIN:VEVENT
DTSTART;VALUE=DATE:20250418
DTEND;VALUE=DATE:20250422
DTSTAMP:20260423T131144
CREATED:20241219T031301Z
LAST-MODIFIED:20250226T232043Z
UID:632-1744934400-1745279999@jotaexpedicoes.com.br
SUMMARY:CANASTRA SUL - SAIBA MAIS
DESCRIPTION:Leve seu 4×4 para passear na Serra da Canastra \n😎 Viagem imperdível! Passa por muitas travessias\, mirantes e cachoeiras\, além de desafios off road. Também proporciona excelentes experiências gastronômicas com queijos\, cachaças mineiras e muita comida boa \n🗓 QUANDO? 🗓\nDe 18 a 21/4 – Feriados de Páscoa e Tiradentes \n🗺 PARTE DE ONDE? 🗺\nPousada em Delfinópolis – MG \n🏞⛰☀️ CONHEÇA ☀️⛰🏞 \n🚘 Dia 1 – Deslocamento\, passeio de barco e confraternização\nViaje até Delfinópolis e encontre o grupo para uma bela confraternização. Finalizaremos a tarde em um passeio de barco na represa do Rio Grande \n😎 Dia 2 – Babilônia\, Serra branca e Caminho do céu ⛪️\nSinta a natureza nas mais belas cachoeiras e mirantes do passeio que passa pela Babilônia\, Serra da Branca e Caminho do Céu. Almoço no mais tradicional restaurante dos trilheiros: Pousada da Vanda \n💦 Dia 3 – Zé Carlinhos\, Ouro e Vale da Gurita ⛰️\nViva a emoção de várias travessias de rios com seu 4×4 para chegar até as mais belas cachoeiras. Visite uma queijaria premiada no meio do paraíso. Almoço caipira delicioso no capricho \n🧀 Dia 4 – Último passeio\, Queijaria e almoço de despedida 🚘\nDesfrute dos últimos momentos na Canastra em um passeio com mais rios\, travessias e belas paisagens. Finalize a expedição em um almoço de confraternização e retorne para casa \nDICA: A CANASTRA É MUITO GRANDE PARA CONHECER EM UMA ÚNICA VIAGEM\nOs deslocamentos se tornam muito grandes e cansativos e você deixa de curtir melhor os atrativos. É por esse motivo que Jota Expedições tem 4 roteiros na Canastra para proporcionar a você uma melhor experiência \n😎 GOSTOU NÉ? QUER IR? 😎\nEnvie um WhatsApp para 11-96407-0127\nLIMITADO A 9 CARROS \n 
URL:https://jotaexpedicoes.com.br/calendario/canastra-sul-saiba-mais/
LOCATION:Delfinópolis – MG
CATEGORIES:Expedição
ATTACH;FMTTYPE=image/png:https://jotaexpedicoes.com.br/wp-content/uploads/CANASTRA-SUL-2025.png
END:VEVENT
BEGIN:VEVENT
DTSTART;VALUE=DATE:20250320
DTEND;VALUE=DATE:20250325
DTSTAMP:20260423T131145
CREATED:20241219T025358Z
LAST-MODIFIED:20250226T231815Z
UID:625-1742428800-1742860799@jotaexpedicoes.com.br
SUMMARY:CANASTRA NORTE - SAIBA MAIS
DESCRIPTION:😎 Viagem imperdível! Passa por muitas travessias\, mirantes e cachoeiras\, além de desafios off road. Também proporciona excelentes experiências gastronômicas com queijos\, cachaças mineiras e muita comida boa \n🗓 QUANDO? 🗓\nDe 20 a 23/3 \n🗺 PARTE DE ONDE? 🗺\nPousada em Vargem Bonita – MG \n🏞⛰☀️ CONHEÇA ☀️⛰🏞\n🚘 Dia 1 – Deslocamento\, passeio e confraternização \nViaje até Vargem Bonita e encontre o grupo para uma bela confraternização. Finalizaremos a tarde em um passeio por queijarias\, travessia e pôr do sol em um mirante \n😎 Dia 2 – Parque Nacional da Serra da Canastra ⛪️ \nSinta a natureza nas mais belas cachoeiras e mirantes do passeio que passa pelos mais belos atrativos do parque. \n💦 Dia 3 – Cachoeiras da Canastra ⛰️ \nVisite as mais belas cachoeiras da parte baixa do parque e seu entorno. Viva uma experiência da roça na queijaria mais acolhedora da Canastra. Almoço caipira delicioso no capricho \n🧀 Dia 4 – Último passeio e almoço de despedida 🚘 \nDesfrute dos últimos momentos na Canastra em um passeio com mais cachoeiras e belas paisagens. Finalize a expedição em um almoço de confraternização e retorne para casa \nDICA: A CANASTRA É MUITO GRANDE PARA CONHECER EM UMA ÚNICA VIAGEM\nOs deslocamentos se tornam muito grandes e cansativos e você deixa de curtir melhor os atrativos. É por esse motivo que Jota Expedições tem 4 roteiros na Canastra para proporcionar a você uma melhor experiência \n😎 GOSTOU NÉ? QUER IR? 😎\nEnvie um WhatsApp para 11-96407-0127\nLIMITADO A 9 CARROS \n 
URL:https://jotaexpedicoes.com.br/calendario/canastra-norte-saiba-mais/
LOCATION:São Roque de Minas e Vargem Bonita – MG
CATEGORIES:Expedição
ATTACH;FMTTYPE=image/png:https://jotaexpedicoes.com.br/wp-content/uploads/CANASTRA-NORTE-2025.png
END:VEVENT
BEGIN:VEVENT
DTSTART;VALUE=DATE:20250228
DTEND;VALUE=DATE:20250305
DTSTAMP:20260423T131145
CREATED:20241219T024857Z
LAST-MODIFIED:20250226T232058Z
UID:620-1740700800-1741132799@jotaexpedicoes.com.br
SUMMARY:SERRA DO PAPAGAIO - SAIBA MAIS
DESCRIPTION:Que tal uma Expedição 4×4 no carnaval? 🎭 \n😎 Viagem imperdível! Passa por muitos mirantes e cachoeiras\, além de desafios off road. Também proporciona excelentes experiências gastronômicas com queijos\, cachaças mineiras e muita comida boa \n🗓 QUANDO? 🗓\nDe 28/2 a 4/3 – feriado de carnaval \n🗺 PARTE DE ONDE? 🗺\n– Pousada em Aiuruoca – MG \n🏞⛰☀️ CONHEÇA ☀️⛰🏞\n🚘 Dia 1 – Deslocamento\, jantar e confraternização\n– Viaje com seu 4×4 até Aiuruoca e encontre o grupo para uma bela confraternização. A chegada é livre e quem chega antes pode curtir a estrutura da pousada (piscina\, ofurô\, etc) \n😎 Dia 2 – Rotas de Baependi 💦\n– Sinta a natureza nas mais belas cachoeiras e mirantes do passeio. Almoço com experiência cultural caipira no Bar do Curral \n💦 Dia 3 – Vale do Matutu ⛰️\n– Imersão cultural no mais charmoso bairro da Aiuruoca. Contato com a natureza e simplicidade. Conheça a leveza de um estilo de vida alternativo e cheio de paz. Almoço caipira delicioso no capricho em restaurante premiado \n⛰️ Dia 4 – Rota Garcias 💦\n– Além de muitas cachoeiras iremos conhecer uma fazenda produtora de azeite com degustação guiada. O almoço simples e delicioso tem uma vista incrível e inesquecível. Depois de passar a tarde na mais bela cachoeira do passeio iremos ver o pôr do sol de um maravilhoso mirante \n🧀 Dia 5 – Cachaça\, Queijaria e almoço de despedida 🚘\n– Desfrute dos últimos momentos na região em uma visita a fazenda produtora da Cachaça Tiê e depois em uma fazenda de queijos premiados em Alagoa – MG. Finalize a expedição em um almoço de confraternização e retorne para casa \n😎 GOSTOU NÉ? QUER IR? 😎\nEnvie um WhatsApp para 11-96407-0127\nLIMITADO A 9 CARROS \n 
URL:https://jotaexpedicoes.com.br/calendario/serra-do-papagaio-saiba-mais/
LOCATION:Aiuuoca\, Baependi e Alagoa – MG
CATEGORIES:Expedição
ATTACH;FMTTYPE=image/png:https://jotaexpedicoes.com.br/wp-content/uploads/SERRA-DO-PAPAGAIO-2025.png
END:VEVENT
BEGIN:VEVENT
DTSTART;VALUE=DATE:20250204
DTEND;VALUE=DATE:20250210
DTSTAMP:20260423T131145
CREATED:20241219T024329Z
LAST-MODIFIED:20241228T015828Z
UID:617-1738702800-1739134799@jotaexpedicoes.com.br
SUMMARY:ESTRADA REAL PT 3 - SAIBA MAIS
DESCRIPTION:Venha conhecer a história em seu 4×4! \n😎 Viagem imperdível! Passa por muitos mirantes e cachoeiras\, além de desafios off road. Também proporciona excelentes experiências como sensoriais\, gastronômicas (queijos\, café\, cachaça) e muito mais 🧀 \n🗓 QUANDO? 🗓\nDe 5 a 9/2 \n🗺 PARTE DE ONDE? 🗺\n– Pousada em Paraty \n🏞⛰☀️ CONHEÇA ☀️⛰🏞 \n🚘 Dia 1 – Deslocamento e confraternização 🥳\n– Viaje no seu ritmo até a pousada em Paraty e encontre os amigos \n😎 Dia 2 – De Paraty – RJ até Cunha – SP 🌊\n– Conheça a história\, cachoeiras e mirantes no caminho. Curta as experiências sensoriais e gastronômicas \n🚜 Dia 3 – De Cunha – SP até Passa Quatro – MG 📸\n– Desfile pela Estrada Real desviando para fortalecer a fé no mirante de Aparecida do Norte\n– Mergulhe na história com desafios 4×4 que estão reservados para esse dia \n💦 Dia 4 – De Passa Quatro – MG até São Lourenço – MG ⛰️\n– Siga na Estrada Real desviando apenas para comer queijo\, ver mirantes e enfrentar desafios 4×4\n– Aproveite as cachoeiras para relaxar \n🫠 Dia 5 – São Lourenço – MG e retorno 🏠\n– Curta o hotel e conheça o parque das águas. Depois do passeio no centro histórico tem um delicioso almoço de encerramento\n– Volte pra casa com o físico cansado e mente renovada \nDICA: OS MELHORES ATRATIVOS DE CADA REGIÃO NÃO ESTÃO NA ESTRADA REAL. Andar somente na Estrada Real faz com que os deslocamentos se sejam muito grandes e cansativos e você deixa de curtir os melhores atrativos. É por esse motivo que Jota Expedições tem 3 roteiros no caminho velho da Estrada Real. Os roteiros desviam um pouco para visitar os mais belos lugares\, proporcionando a você uma melhor experiência \n😎 GOSTOU NÉ? QUER IR? 😎\nEnvie um WhatsApp para 11-96407-0127\nLIMITADO A 9 CARROS
URL:https://jotaexpedicoes.com.br/calendario/estrada-real-pt-3-saiba-mais/
LOCATION:De Paraty – RJ até São Lourenço – MG
CATEGORIES:Expedição
ATTACH;FMTTYPE=image/png:https://jotaexpedicoes.com.br/wp-content/uploads/ESTRADA-REAL-PT3-2025.png
END:VEVENT
BEGIN:VEVENT
DTSTART;VALUE=DATE:20250122
DTEND;VALUE=DATE:20250127
DTSTAMP:20260423T131145
CREATED:20241219T021554Z
LAST-MODIFIED:20241228T015814Z
UID:597-1737579600-1737925199@jotaexpedicoes.com.br
SUMMARY:SERRA DAS BROAS - SAIBA MAIS
DESCRIPTION:Tire seu 4×4 da garagem\, leve a família para o paraíso das cachoeiras! 🙂 \n😎 Viagem imperdível! Passa por muitos mirantes e cachoeiras\, além de desafios off road 💪🏻 \n🗓 QUANDO? 🗓\nDe 23/1 a 26/1 – Aniversário de São Paulo \n🗺 PARTE DE ONDE? 🗺\n– Restaurante em Cruzilia – MG \n🏞⛰☀️ CONHEÇA ☀️⛰🏞 \n🚘 Dia 1 – Deslocamento\, almoço é Estrada Real 🥳\n– Viaje no seu ritmo até o restaurante em Cruzilia e encontre os amigos\n– Percorra o trecho da Estrada Real entre Cruzilia e Carrancas – MG \n😎 Dia 2 – Cachoeiras e desafios\n– Conheça dois complexos com muitas cachoeiras e águas cristalinas\n– Almoço mineiro estilo caipira\n– Desafios 4×4 e mirante no final da tarde \n🚜 Dia 3 – 📸 Serra das Broas\n– Visite um complexo de cachoeiras e veja pinturas rupestres milenares\n– Enfrente desafios no caminho até um belo mirante \n💦 Dia 4 – Caverna\, cachoeiras e retorno 🚗\n– Conheça uma bela caverna e um complexo de cachoeiras de tirar o fôlego\n– Almoce e retorne para a casa com maravilhosas lembranças \n😎 GOSTOU NÉ? QUER IR? 😎\nInteressados devem enviar um WhatsApp para 11-96407-0127\nCorre que as vagas são LIMITADAS A 9 VIATURAS \n \n 
URL:https://jotaexpedicoes.com.br/calendario/serra-das-broas-2/
LOCATION:Carrancas e Cruzília – MG
CATEGORIES:Expedição
ATTACH;FMTTYPE=image/png:https://jotaexpedicoes.com.br/wp-content/uploads/SERRA-DAS-BROAS-2025.png
END:VEVENT
BEGIN:VEVENT
DTSTART;VALUE=DATE:20241119
DTEND;VALUE=DATE:20241125
DTSTAMP:20260423T131145
CREATED:20231205T183029Z
LAST-MODIFIED:20231205T183029Z
UID:565-1732050000-1732481999@jotaexpedicoes.com.br
SUMMARY:ESTRADA REAL PT. 3
DESCRIPTION:CONSCIÊNCIA NEGRA
URL:https://jotaexpedicoes.com.br/calendario/estrada-real-pt-3/
LOCATION:De Paraty – RJ até São Lourenço – MG
END:VEVENT
BEGIN:VEVENT
DTSTART;VALUE=DATE:20241113
DTEND;VALUE=DATE:20241118
DTSTAMP:20260423T131145
CREATED:20231205T182915Z
LAST-MODIFIED:20231205T182915Z
UID:562-1731531600-1731877199@jotaexpedicoes.com.br
SUMMARY:JURÉIA ITATINS
DESCRIPTION:PROCLAMAÇÃO DA REPÚBLICA
URL:https://jotaexpedicoes.com.br/calendario/jureia-itatins/
LOCATION:Peruíbe\, Pedro de Toledo e Iguape – SP
END:VEVENT
BEGIN:VEVENT
DTSTART;VALUE=DATE:20241030
DTEND;VALUE=DATE:20241104
DTSTAMP:20260423T131145
CREATED:20231205T182744Z
LAST-MODIFIED:20231205T182744Z
UID:559-1730322000-1730667599@jotaexpedicoes.com.br
SUMMARY:CAPITÓLIO
DESCRIPTION:FINADOS
URL:https://jotaexpedicoes.com.br/calendario/capitolio/
LOCATION:Capitólio e São João Baista do Glória – MG
END:VEVENT
BEGIN:VEVENT
DTSTART;VALUE=DATE:20241009
DTEND;VALUE=DATE:20241014
DTSTAMP:20260423T131145
CREATED:20231205T182629Z
LAST-MODIFIED:20231205T182629Z
UID:556-1728507600-1728853199@jotaexpedicoes.com.br
SUMMARY:CANASTRA NORTE
DESCRIPTION:NOSSA SENHORA APARECIDA
URL:https://jotaexpedicoes.com.br/calendario/canastra-norte/
LOCATION:São Roque de Minas e Vargem Bonita – MG
END:VEVENT
BEGIN:VEVENT
DTSTART;VALUE=DATE:20240904
DTEND;VALUE=DATE:20240909
DTSTAMP:20260423T131145
CREATED:20231205T182444Z
LAST-MODIFIED:20231205T182508Z
UID:553-1725483600-1725829199@jotaexpedicoes.com.br
SUMMARY:CANASTRA SUL
DESCRIPTION:INDEPENDÊNCIA
URL:https://jotaexpedicoes.com.br/calendario/canastra-sul/
LOCATION:Delfinópolis – MG
END:VEVENT
BEGIN:VEVENT
DTSTART;VALUE=DATE:20240815
DTEND;VALUE=DATE:20240819
DTSTAMP:20260423T131145
CREATED:20231205T182305Z
LAST-MODIFIED:20231205T182329Z
UID:550-1723755600-1724014799@jotaexpedicoes.com.br
SUMMARY:SERRA BASÁLTICA
DESCRIPTION:FINAL DE SEMANA
URL:https://jotaexpedicoes.com.br/calendario/serra-basaltica/
LOCATION:Botucatu – SP e região
END:VEVENT
BEGIN:VEVENT
DTSTART;VALUE=DATE:20240704
DTEND;VALUE=DATE:20240710
DTSTAMP:20260423T131145
CREATED:20231205T182145Z
LAST-MODIFIED:20231205T182145Z
UID:547-1720126800-1720558799@jotaexpedicoes.com.br
SUMMARY:SERRAS PARANAENSES
DESCRIPTION:REVOLUÇÃO CONSTITUCIONALISTA
URL:https://jotaexpedicoes.com.br/calendario/serras-paranaenses/
LOCATION:Curitiba\, Ponta Grossa e Morretes – PR
END:VEVENT
BEGIN:VEVENT
DTSTART;VALUE=DATE:20240528
DTEND;VALUE=DATE:20240603
DTSTAMP:20260423T131145
CREATED:20231205T182011Z
LAST-MODIFIED:20231205T182011Z
UID:539-1716930000-1717361999@jotaexpedicoes.com.br
SUMMARY:ALPES DA MANTIQUEIRA
DESCRIPTION:CORPUS CHRISTI
URL:https://jotaexpedicoes.com.br/calendario/alpes-da-mantiqueira/
LOCATION:Sapucaí Mirim – MG e região
END:VEVENT
BEGIN:VEVENT
DTSTART;VALUE=DATE:20240504
DTEND;VALUE=DATE:20240506
DTSTAMP:20260423T131145
CREATED:20231205T181809Z
LAST-MODIFIED:20231205T181809Z
UID:542-1714856400-1714942799@jotaexpedicoes.com.br
SUMMARY:ESTRADA REAL PT. 2
DESCRIPTION:DIA DO TRABALHO
URL:https://jotaexpedicoes.com.br/calendario/estrada-real-pt-2/
LOCATION:De Tiradentes até Caxambu – MG
END:VEVENT
BEGIN:VEVENT
DTSTART;VALUE=DATE:20240417
DTEND;VALUE=DATE:20240422
DTSTAMP:20260423T131145
CREATED:20231205T181442Z
LAST-MODIFIED:20231205T181442Z
UID:536-1713387600-1713733199@jotaexpedicoes.com.br
SUMMARY:SERRA DA BOCAINA
DESCRIPTION:TIRADENTES
URL:https://jotaexpedicoes.com.br/calendario/serra-da-bocaina/
LOCATION:São José do Bareiro\, Areias e Silveiras – SP
END:VEVENT
BEGIN:VEVENT
DTSTART;VALUE=DATE:20240327
DTEND;VALUE=DATE:20240401
DTSTAMP:20260423T131145
CREATED:20231205T181304Z
LAST-MODIFIED:20231205T181304Z
UID:532-1711573200-1711918799@jotaexpedicoes.com.br
SUMMARY:VALE DO ITARARÉ
DESCRIPTION:PÁSCOA
URL:https://jotaexpedicoes.com.br/calendario/vale-do-itarare/
LOCATION:Itararé – SP\, Sengés e Jaguariaíva – PR
END:VEVENT
BEGIN:VEVENT
DTSTART;VALUE=DATE:20240208
DTEND;VALUE=DATE:20240214
DTSTAMP:20260423T131145
CREATED:20231205T180911Z
LAST-MODIFIED:20231205T190155Z
UID:529-1707426000-1707857999@jotaexpedicoes.com.br
SUMMARY:UNIVERSIDADE 4X4
DESCRIPTION:CARNAVAL
URL:https://jotaexpedicoes.com.br/calendario/universidade-4x4/
LOCATION:Fazenda OffRoad a ser definida
END:VEVENT
BEGIN:VEVENT
DTSTART;VALUE=DATE:20240124
DTEND;VALUE=DATE:20240129
DTSTAMP:20260423T131145
CREATED:20231205T180528Z
LAST-MODIFIED:20231205T190139Z
UID:526-1706130000-1706475599@jotaexpedicoes.com.br
SUMMARY:SERRA DAS BROAS
DESCRIPTION:ANIVERSÁRIO DE SP
URL:https://jotaexpedicoes.com.br/calendario/serra-das-broas/
LOCATION:Carrancas e Cruzília – MG
END:VEVENT
BEGIN:VEVENT
DTSTART;VALUE=DATE:20231101
DTEND;VALUE=DATE:20231106
DTSTAMP:20260423T131145
CREATED:20230831T212631Z
LAST-MODIFIED:20230914T030012Z
UID:332-1698872400-1699217999@jotaexpedicoes.com.br
SUMMARY:Expedição Estrada Real - Paraty / São Lourenço
DESCRIPTION:Imperdível! Expedição que passa pelo caminho real explorando a história\, cultura e gastronomia nesse trecho maravilhoso
URL:https://jotaexpedicoes.com.br/calendario/expedicao-estrada-real-paraty-sao-lourenco-2-a-5-de-novembro/
LOCATION:De Paraty-RJ até São Lourenço-MG
END:VEVENT
BEGIN:VEVENT
DTSTART;VALUE=DATE:20231011
DTEND;VALUE=DATE:20231016
DTSTAMP:20260423T131145
CREATED:20230826T014053Z
LAST-MODIFIED:20230914T025847Z
UID:263-1697058000-1697403599@jotaexpedicoes.com.br
SUMMARY:Expedição Serra da Canastra - Roteiro Norte
DESCRIPTION:Roteiro que abrange os atrativos da parte baixa e alta do parque nacional da serra da canastra em Minas Gerais
URL:https://jotaexpedicoes.com.br/calendario/expedicao-serra-da-canastra-roteiro-norte-12-a-15-de-outubro/
LOCATION:Vargem Bonita – MG
END:VEVENT
BEGIN:VEVENT
DTSTART;TZID=America/Sao_Paulo:20231001T060000
DTEND;TZID=America/Sao_Paulo:20231001T150000
DTSTAMP:20260423T131145
CREATED:20230914T023947Z
LAST-MODIFIED:20230914T030124Z
UID:490-1696140000-1696172400@jotaexpedicoes.com.br
SUMMARY:Passeio beneficente - Projeto Mulher Maravilha
DESCRIPTION:Passeio gratuito e beneficente onde arrecadaremos doações de brinquedos e doces para a distribuição no dia das crianças
URL:https://jotaexpedicoes.com.br/calendario/passeio-beneficente-projeto-mulher-maravilha/
LOCATION:De Biritiba Mirim até Salesópolis-SP
END:VEVENT
BEGIN:VEVENT
DTSTART;TZID=America/Sao_Paulo:20230923T060000
DTEND;TZID=America/Sao_Paulo:20230923T170000
DTSTAMP:20260423T131145
CREATED:20230914T025006Z
LAST-MODIFIED:20230914T030147Z
UID:492-1695448800-1695488400@jotaexpedicoes.com.br
SUMMARY:Fest Lama - Confraternização e brincadeira
DESCRIPTION:Encontro da galera em um evento apoiado por Jota Expedições com camping\, arrancada\, pista 4×4 para brincar e encontrar muitos amigos
URL:https://jotaexpedicoes.com.br/calendario/fest-lama-confraternizacao-e-brincadeira/
LOCATION:CaieirasSP
END:VEVENT
END:VCALENDAR