BEGIN:VCALENDAR
VERSION:2.0
PRODID:-//Jota Expedições - ECPv6.15.1.1//NONSGML v1.0//EN
CALSCALE:GREGORIAN
METHOD:PUBLISH
X-WR-CALNAME:Jota Expedições
X-ORIGINAL-URL:https://jotaexpedicoes.com.br
X-WR-CALDESC:Eventos para Jota Expedições
REFRESH-INTERVAL;VALUE=DURATION:PT1H
X-Robots-Tag:noindex
X-PUBLISHED-TTL:PT1H
BEGIN:VTIMEZONE
TZID:America/Sao_Paulo
BEGIN:STANDARD
TZOFFSETFROM:-0300
TZOFFSETTO:-0300
TZNAME:-03
DTSTART:20260101T000000
END:STANDARD
END:VTIMEZONE
BEGIN:VEVENT
DTSTART;VALUE=DATE:20260213
DTEND;VALUE=DATE:20260218
DTSTAMP:20260423T200719
CREATED:20251128T214904Z
LAST-MODIFIED:20251128T223229Z
UID:1469-1770940800-1771372799@jotaexpedicoes.com.br
SUMMARY:CANASTRA - SACRAMENTO - SAIBA MAIS
DESCRIPTION:Tem um 4×4? Bora conhecer o paraíso em Minas Gerais \n😎 Imperdível! Passa por muitos atrativos naturais como cachoeiras\, mirantes\, além de represas e desafios offroad 🚜 \n🗓 QUANDO? 🗓\nDe 13 a 17/2 – Carnaval \n🗺 PARTE DE ONDE? 🗺\nHotel em Pedregulho – SP \n🏞⛰☀️ CONHEÇA ☀️⛰🏞 \n🚘 Dia 1 – Deslocamento e confraternização 🥂\nViaje tranquilo até nosso confortável hotel e encontre o pessoal para um jantar e confraternização de boas vindas \n🚜 Dia 2 – Cachoeiras da Canastra 📸\nCurta dois complexos de cachoeiras nesse dia\, além de um final de tarde mágico em um belo mirante \n😎 Dia 3 – Represa do estreito 🛥️\nAproveite as muitas quedas e piscinas naturais um passeio de barco com cachoeiras maravilhosas!\nAlmoço mineiro delicioso. Pôr do sol na represa \n💦 Dia 4 – Natureza e gastronomia 😋\nVisite empórios de produtos locais\, queijarias premiadas\, cachaçaria e delicioso almoço\nConheça mais cachoeiras e a maior gruta de arenito da América Latina\nFim de tarde ao lado do Rio Grande e antiga estação de trem \n☕ Dia 5 – Cafés e aromas\nFinalize a expedição com uma fantástica experiência de imersão em uma fazenda cafeeira\ncom almoço de despedida\nRetorne para a casa cansado fisicamente mas renovado mentalmente \nDICA: A CANASTRA É MUITO GRANDE PARA CONHECER EM UMA ÚNICA VIAGEM\nOs deslocamentos se tornam muito grandes e cansativos e você deixa de curtir melhor os atrativos. É por esse motivo que Jota Expedições tem 5 roteiros na Canastra para proporcionar a você uma melhor experiência \n😎 GOSTOU NÉ? QUER IR? 😎\nEnvie um WhatsApp para 11-96407-0127\nLIMITADO A 11 CARROS
URL:https://jotaexpedicoes.com.br/calendario/canastra-sacramento-saiba-mais/
LOCATION:Sacramento – MG
CATEGORIES:Expedição
ATTACH;FMTTYPE=image/jpeg:https://jotaexpedicoes.com.br/wp-content/uploads/3-1.jpg
END:VEVENT
BEGIN:VEVENT
DTSTART;VALUE=DATE:20260313
DTEND;VALUE=DATE:20260316
DTSTAMP:20260423T200719
CREATED:20251128T222948Z
LAST-MODIFIED:20251128T222948Z
UID:1472-1773360000-1773619199@jotaexpedicoes.com.br
SUMMARY:SERRA DA BOCAINA - SAIBA MAIS
DESCRIPTION:Leve seu 4×4 e a família para passear nesse paraíso! 🙂 \n😎 Viagem imperdível! Passa por muitos mirantes e cachoeiras\, além de desafios off road 💪🏻 Também tem experiências culturais\, históricas e gastronômicas \n🗓 QUANDO? 🗓\nDe 13 a 15/3 – Mini Expedição \n🗺 PARTE DE ONDE? 🗺\nPousada em São José do Barreiro – SP \n🪨 ⛰️ CONHEÇA ⛰️ 🪨 \n🚘 1° DIA – Deslocamento e confraternização 🥳\nDeslocamento até São José do Barreiro – SP\nEncontro na pousada e briefing\nJantar na pousada\nConfraternização com o grupo \n💦 2° DIA – Trilha das nascentes do rio Paraitinga 🚙\nDeslocamento por estradas rurais\, mirantes\, cachoeiras e travessias\nDelicioso almoço exclusivo com um belo visual\nRetorno para a pousada passando por belas paisagens\, desafios e belezas naturais\nJantar na cidade com experiência gastronômica local \n📸 3° DIA – Parque Nacional da Serra da Bocaina 🌿\nCachoeira Santo Izidro e Parque Nacional. Mirantes na serra como a rampa de voo livre\nAlmoço e recepção especial na Fazenda São Francisco (1813)\nEncerramento e despedida\nRetorno para a casa \n😎 GOSTOU NÉ? QUER IR? 😎\nEnvie um WhatsApp para 11-96407-0127\nLIMITADO A 12 CARROS
URL:https://jotaexpedicoes.com.br/calendario/serra-da-bocaina-saiba-mais-2/
LOCATION:São José do Bareiro\, Areias e Silveiras – SP
CATEGORIES:Mini Expedição
ATTACH;FMTTYPE=image/jpeg:https://jotaexpedicoes.com.br/wp-content/uploads/4-1.jpg
END:VEVENT
BEGIN:VEVENT
DTSTART;VALUE=DATE:20260402
DTEND;VALUE=DATE:20260406
DTSTAMP:20260423T200719
CREATED:20251128T223424Z
LAST-MODIFIED:20251128T223424Z
UID:1477-1775088000-1775433599@jotaexpedicoes.com.br
SUMMARY:CANASTRA - DELFINÓPOLIS - SAIBA MAIS
DESCRIPTION:Leve seu 4×4 para passear na Serra da Canastra \n😎 Viagem sensacional! Passa por muitas travessias\, mirantes e cachoeiras\, além de desafios offroad. Também proporciona excelentes experiências gastronômicas com queijos\, cachaças mineiras e muita comida boa \n🗓 QUANDO? 🗓\nDe 2 a 5/4 – Feriados de Páscoa \n🗺 PARTE DE ONDE? 🗺\nPousada em Delfinópolis – MG \n🏞⛰☀️ CONHEÇA ☀️⛰🏞 \n🚘 Dia 1 – Deslocamento\, passeio de barco e confraternização\nViaje até Delfinópolis e encontre o grupo para uma bela confraternização. Finalizaremos a tarde em um passeio de barco na represa do Rio Grande \n😎 Dia 2 – Babilônia\, Serra branca e Caminho do céu ⛰️\nSinta a natureza nas mais belas cachoeiras e mirantes do passeio que passa pela Babilônia\, Serra da Branca e Caminho do Céu. Almoço no mais tradicional restaurante dos trilheiros: Pousada da Vanda \n💦 Dia 3 – Zé Carlinhos\, Ouro e Vale da Gurita ⛰️\nViva a emoção de várias travessias de rios com seu 4×4 para chegar até as mais belas cachoeiras. Visite uma queijaria premiada no meio do paraíso. Almoço caipira delicioso no capricho \n🧀 Dia 4 – Último passeio\, Queijaria e almoço de despedida 🚘\nDesfrute dos últimos momentos na Canastra em um passeio com mais rios\, travessias e belas paisagens. Finalize a expedição em um almoço de confraternização e retorne para casa \nDICA: A CANASTRA É MUITO GRANDE PARA CONHECER EM UMA ÚNICA VIAGEM\nOs deslocamentos se tornam muito grandes e cansativos e você deixa de curtir melhor os atrativos. É por esse motivo que Jota Expedições tem 5 roteiros na Canastra para proporcionar a você uma melhor experiência \n😎 GOSTOU NÉ? QUER IR? 😎\nEnvie um WhatsApp para 11-96407-0127\nLIMITADO A 9 CARROS
URL:https://jotaexpedicoes.com.br/calendario/canastra-delfinopolis-saiba-mais/
LOCATION:Delfinópolis – MG
CATEGORIES:Expedição
ATTACH;FMTTYPE=image/jpeg:https://jotaexpedicoes.com.br/wp-content/uploads/5-1.jpg
END:VEVENT
BEGIN:VEVENT
DTSTART;VALUE=DATE:20260418
DTEND;VALUE=DATE:20260422
DTSTAMP:20260423T200719
CREATED:20251128T223731Z
LAST-MODIFIED:20251128T223749Z
UID:1482-1776470400-1776815999@jotaexpedicoes.com.br
SUMMARY:CANASTRA - SÃO ROQUE - SAIBA MAIS
DESCRIPTION:Bora conhecer o Parque Nacional da Serra da Canastra? \n😎 Viagem inesquecível! Passa por muitos mirantes e cachoeiras\, além de desafios offroad. Também proporciona excelentes experiências gastronômicas com queijos\, cachaças mineiras e muita comida boa \n🗓 QUANDO? 🗓\nDe 18 a 21/4 – Feriado de Tiradentes \n🗺 PARTE DE ONDE? 🗺\nPousada em Vargem Bonita – MG \n🏞⛰☀️ CONHEÇA ☀️⛰🏞 \n🚘 Dia 1 – Deslocamento\, passeio e confraternização\nViaje até Vargem Bonita e encontre o grupo para uma bela confraternização\nFinalizaremos a tarde em um passeio por queijarias\, travessia e pôr do sol em um mirante \n😎 Dia 2 – Parque Nacional da Serra da Canastra ⛪️\nSinta a natureza nas mais belas cachoeiras e mirantes do passeio que passa pelos mais belos atrativos do parque \n💦 Dia 3 – Cachoeiras da Canastra ⛰️\nVisite as mais belas cachoeiras da parte baixa do parque e seu entorno\nViva uma experiência da roça na queijaria mais acolhedora da Canastra. Almoço caipira delicioso no capricho \n🧀 Dia 4 – Último passeio e almoço de despedida 🚘\nDesfrute dos últimos momentos na Canastra em um passeio com mais cachoeiras e belas paisagens\nFinalize a expedição em um almoço de confraternização e retorne para casa \nDICA: A CANASTRA É MUITO GRANDE PARA CONHECER EM UMA ÚNICA VIAGEM\nOs deslocamentos se tornam muito grandes e cansativos e você deixa de curtir melhor os atrativos. É por esse motivo que Jota Expedições tem 5 roteiros na Canastra para proporcionar a você uma melhor experiência \n😎 GOSTOU NÉ? QUER IR? 😎\nEnvie um WhatsApp para 11-96407-0127\nLIMITADO A 9 CARROS
URL:https://jotaexpedicoes.com.br/calendario/canastra-sao-roque-saiba-mais/
LOCATION:São Roque de Minas e Vargem Bonita – MG
CATEGORIES:Expedição
ATTACH;FMTTYPE=image/jpeg:https://jotaexpedicoes.com.br/wp-content/uploads/6-1.jpg
END:VEVENT
BEGIN:VEVENT
DTSTART;VALUE=DATE:20260501
DTEND;VALUE=DATE:20260504
DTSTAMP:20260423T200719
CREATED:20251128T225317Z
LAST-MODIFIED:20251128T225317Z
UID:1484-1777593600-1777852799@jotaexpedicoes.com.br
SUMMARY:SERRA DA LUMINOSA - SAIBA MAIS
DESCRIPTION:Que tal explorar a Mantiqueira em seu 4×4? \n😎 Viagem belíssima! Passa por muitos mirantes e cachoeiras\, além de desafios offroad. Também proporciona excelentes experiências gastronômicas com vinhos\,queijos\, azeites e muita comida boa \n🗓 QUANDO? 🗓\nDe 1 a 3/5 – Dia do trabalho \n🗺 PARTE DE ONDE? 🗺\nPousada em São Bento do Sapucaí-SP \n🏞⛰☀️ CONHEÇA ☀️⛰🏞 \n🚘 Dia 1 – Deslocamento\, passeio e gastronomia 🍷\nViaje até Campos do Jordão e encontre o grupo para almoço de boas vindas\nEnfrente desafios 4×4 na subida de um mirante\nVisite uma vinícola com degustação e passeio guiado \n😎 Dia 2 – Luminosa ⛰️\nDesfile em seu 4×4 pelo belo relevo da Serra da Luminosa\nVisite uma charmosa cachoeira com um café da roça exclusivo\nfinalize o dia no monumento natural Pedra do Baú \n💦 Dia 3 – Passeio e despedida 🚘\nVisite uma bela cachoeira e se desloque por trilhas até Monteiro Lobato-SP\nViva uma experiência gastronômica em um restaurante com mirante de tirar o fôlego\nRetorno para a casa \n😎 GOSTOU NÉ? QUER IR? 😎\nEnvie um WhatsApp para 11-96407-0127\nLIMITADO A 9 CARROS
URL:https://jotaexpedicoes.com.br/calendario/serra-da-luminosa-saiba-mais/
LOCATION:Sâo Bento do Sapucaí – SP
CATEGORIES:Mini Expedição
ATTACH;FMTTYPE=image/jpeg:https://jotaexpedicoes.com.br/wp-content/uploads/7-1.jpg
END:VEVENT
BEGIN:VEVENT
DTSTART;VALUE=DATE:20260604
DTEND;VALUE=DATE:20260608
DTSTAMP:20260423T200719
CREATED:20251128T232649Z
LAST-MODIFIED:20251128T235321Z
UID:1488-1780531200-1780876799@jotaexpedicoes.com.br
SUMMARY:E.R. CAMINHO NOVO - SAIBA MAIS
DESCRIPTION:Mergulhe na história do Brasil passeando em seu 4×4 \n😎 Viagem encantadora! Passa por muitos atrativos históricos\, mirantes e cachoeiras\, além de desafios offroad. Também proporciona excelentes experiências culturais e gastronômicas \n🗓 QUANDO? 🗓\nDe 4 a 7/6 – Corpus Christi \n🗺 PARTE DE ONDE? 🗺\nPousada em Ouro Preto – MG \n🏞⛰☀️ CONHEÇA ☀️⛰🏞 \n🚘 Dia 1 – Deslocamento\, almoço de boas vindas e passeio\nViaje até Ouro Preto-MG e encontre o grupo para o almoço de boas vindas\nConheça atrativos históricos e culturais da cidade\nContemple o pôr do sol em um mirante \n😎 Dia 2 – De Ouro Preto até Barbacena – MG ⛪️\nVisite cachoeiras e mirantes. Conheça a história em igrejas e construções da época da exploração do ouro\nAlmoce em restaurante típico mineiro \n💦 Dia 3 – De Barbacena até juiz de Fora-MG ⛰️\nVisite as mais belas cachoeiras da da região. Viva uma experiência de imersão na história religiosa e das ferrovias\nAlmoço caipira delicioso no capricho \n🧀 Dia 4 – De Juíz de fora até Petrópolis 🍺\nConheça palácios\, museus\, cervejarias e belos atrativos naturais\nConfraternize com os amigos em um delicioso almoço de despedida \nDICA: A ESTRADA REAL É MUITO GRANDE PARA CONHECER EM UMA ÚNICA VIAGEM\nOs deslocamentos se tornam muito grandes e cansativos e você deixa de curtir melhor os atrativos. Além disso se você não sai da rota turística\, perde os melhores atrativos de cada região.\nÉ por esse motivo que Jota Expedições tem 4 roteiros na Estrada Real para proporcionar a você uma melhor experiência \n😎 GOSTOU NÉ? QUER IR? 😎\nEnvie um WhatsApp para 11-96407-0127\nLIMITADO A 10 CARROS
URL:https://jotaexpedicoes.com.br/calendario/e-r-caminho-novo-saiba-mais/
LOCATION:De Ouro Preto-MG até Petrópolis-RJ
CATEGORIES:Expedição
ATTACH;FMTTYPE=image/jpeg:https://jotaexpedicoes.com.br/wp-content/uploads/8.jpg
END:VEVENT
BEGIN:VEVENT
DTSTART;VALUE=DATE:20260708
DTEND;VALUE=DATE:20260713
DTSTAMP:20260423T200719
CREATED:20251128T235619Z
LAST-MODIFIED:20251128T235644Z
UID:1491-1783468800-1783900799@jotaexpedicoes.com.br
SUMMARY:SERRAS PARANAENSES - SAIBA MAIS
DESCRIPTION:Leve seu 4×4 para passear pelos mais belos atrativos das Serras do Paraná \n😎 Viagem com gastronomia! Passa por muitos parques e atrativos naturais\, além de travessias e desafios offroad. Também proporciona excelentes experiências gastronômicas como pratos típicos\, restaurantes renomados e visita com degustação a uma vinícola de espumantes 🍾 \n🗓 QUANDO? 🗓\nDe 8 a 12/7 – Rev. constitucionalista \n🗺 PARTE DE ONDE? 🗺\n– Hotel na grande Curitiba \n🏞⛰☀️ CONHEÇA ☀️⛰🏞 \n🚘 Dia 1 – Deslocamento\, encontro e confraternização 🍴\nViaje tranquilo até nosso confortável hotel e encontre o pessoal para a confraternização de boas vindas. \n😎 Dia 2 – Curitiba e Vinícola Colinas de Pedra 🥂\nRealize passeios pelos atrativos de Curitiba\, visite a vinícola para a degustação de um belo espumante e almoço. Finalize o dia com o pôr do sol no parque mais charmoso do país \n🚜 Dia 3 – Ponta Grossa 📸\nVisite belos atrativos naturais como o Buraco do Padre e o Parque de Vila Velha\, que possui fantásticas formações rochosas\, furnas e lagoas. Finalize o dia em uma trilha moderada com algumas travessias e erosões \n💦 Dia 4 – Serra da Graciosa ⛰️\nPasseie em uma das estradas mais antigas do país\, no meio da serra. Saboreie o prato típico da região (barreado) no melhor restaurante. Curta as inúmeras travessias no caminho e finalize o dia com um belo fim de tarde em Antonina \n🌸 Dia 5 – Jardim botânico\, arquitetura e despedida 🌺\nDesfrute dos últimos momentos da expedição no mais belo jardim do Brasil. Visite o museu Oscar Niemeyer e finalize o passeio com uma boa comida brasileira \n😎 GOSTOU NÉ? QUER IR? 😎\nEnvie um WhatsApp para 11-96407-0127\nLIMITADO A 12 CARROS
URL:https://jotaexpedicoes.com.br/calendario/serras-paranaenses-saiba-mais/
CATEGORIES:Expedição
ATTACH;FMTTYPE=image/jpeg:https://jotaexpedicoes.com.br/wp-content/uploads/9.jpg
END:VEVENT
BEGIN:VEVENT
DTSTART;VALUE=DATE:20260814
DTEND;VALUE=DATE:20260817
DTSTAMP:20260423T200719
CREATED:20260202T211535Z
LAST-MODIFIED:20260202T214531Z
UID:1493-1786665600-1786924799@jotaexpedicoes.com.br
SUMMARY:SERRA DA BALANÇA - SAIBA MAIS
DESCRIPTION:Leve seu 4×4 para passear pelos mais belos atrativos da Serra da Mantiqueira \n😎 Mini Expedição imperdível! Passa por muitos mirantes\, cachoeiras e atrativos naturais\, além de desafios offroad. Também proporciona excelentes experiências gastronômicas em restaurantes renomados e cervejaria artesanal 🍻 \n🗓 QUANDO? 🗓\nDe 14 a 16/8 \n🗺 PARTE DE ONDE? 🗺\n– Pousada em São Bento do Sapucaí-SP \n🏞⛰☀️ CONHEÇA ☀️⛰🏞 \n🚘 Dia 1 – Deslocamento livre\, encontro e confraternização 🍴\n– Viaje tranquilo até nosso confortável hotel e encontre o pessoal para a confraternização de boas vindas. \n😎 Dia 2 – Serra da Balança 🍺\n– Divirta-se dirigindo seu 4×4 em estradas rurais e trilhas na serra para chegar em Gonçalves. No caminho passaremos por vários mirantes e cachoeiras. Coma bem em uma cervejaria e restaurante. Finalize o dia com o pôr do sol em um mirante com vista para a cidade \n🚜 Dia 3 – Pedra de São Francisco 📸\n– Rumo a Monteiro Lobato-SP\, passaremos por cachoeiras\, trilhas e estradas abandonadas até a Pedra de São Francisco\, um parque mirante com uma vista incrível. Lá temos almoço de encerramento com experiência gastronômica local em um menu completo \n😎 GOSTOU NÉ? QUER IR? 😎\nEnvie um WhatsApp para 11-96407-0127\nLIMITADO A 9 CARROS
URL:https://jotaexpedicoes.com.br/calendario/serra-da-balanca-saiba-mais/
LOCATION:Sâo Bento do Sapucaí – SP
CATEGORIES:Mini Expedição
ATTACH;FMTTYPE=image/jpeg:https://jotaexpedicoes.com.br/wp-content/uploads/10.jpg
END:VEVENT
BEGIN:VEVENT
DTSTART;VALUE=DATE:20260904
DTEND;VALUE=DATE:20260908
DTSTAMP:20260423T200719
CREATED:20260202T213754Z
LAST-MODIFIED:20260202T213910Z
UID:1495-1788480000-1788825599@jotaexpedicoes.com.br
SUMMARY:SERRA DAS LUMINÁRIAS - SAIBA MAIS
DESCRIPTION:Tem um 4×4? Bora conhecer o paraíso em Minas Gerais \n😎 Viagem imperdível! Passa por muitos atrativos naturais como cachoeiras\, mirantes\, além de travessias e desafios offroad 🚜 \n🗓 QUANDO? 🗓\nDe 4 a 7/9 – Feriado de Independência \n🗺 PARTE DE ONDE? 🗺\nHotel em São Tomé das Letras – MG \n🏞⛰☀️ CONHEÇA ☀️⛰🏞 \n🚘 Dia 1 – Deslocamento e cachoeiras 💦\nViaje no seu ritmo até o hotel e encontre os amigos para o almoco de recepção. Curta algumas cachoeiras logo no primeiro dia \n💦 Dia 2 – Rota das luminarias 💥\nVisite a serra das luminárias e curta muitas cachoeiras\, além de belas paisagens e mirantes \n🚜 Dia 3 – Rota das grutas 📸\nConheça duas grutas mágicas e almoce uma deliciosa comida típica. Visite uma antiga pedreira e curta um belo pôr do sol \n😎 Dia 4 – Pico do Gavião e despedida ⛰️\nSuba com seu 4×4 até o Pico do Gavião enfrentando desafios offroad. Almoce no hotel com os amigos e retorne para a casa \n GOSTOU NÉ? QUER IR? \nEnvie um WhatsApp para 11-96407-0127\nLIMITADO A 9 CARROS
URL:https://jotaexpedicoes.com.br/calendario/serra-das-luminarias-saiba-mais/
LOCATION:São Thomé das Letras-MG
CATEGORIES:Expedição
ATTACH;FMTTYPE=image/jpeg:https://jotaexpedicoes.com.br/wp-content/uploads/11.jpg
END:VEVENT
BEGIN:VEVENT
DTSTART;VALUE=DATE:20261009
DTEND;VALUE=DATE:20261013
DTSTAMP:20260423T200719
CREATED:20260202T214121Z
LAST-MODIFIED:20260202T214121Z
UID:1498-1791504000-1791849599@jotaexpedicoes.com.br
SUMMARY:CANASTRA - GLÓRIA - SAIBA MAIS
DESCRIPTION:Venha com seu 4×4 e a família para passear na Serra da Canastra! 🙂 \n😎 Viagem imperdível! Passa por muitos mirantes e cachoeiras\, além de desafios off road 💪🏻 Também tem experiências culturais\, históricas e gastronômicas \n🗓 QUANDO? 🗓\nDe 9 a 12/10 – Feriado de N.S Aparecida \n🗺 PARTE DE ONDE? 🗺\nPousada em São João Batista do Glória – MG \n🪨 ⛰️ CONHEÇA ⛰️ 🪨 \n🚘 1° DIA – Deslocamento e confraternização 🥳\nDeslocamento até São João B. do Glória – mg\nEncontro na pousada e briefing\nJantar e confraternização com o grupo \n💦 2° DIA – Rota quilombo 🚙\nDeslocamento por estradas rurais\, mirantes\, muitas cachoeiras e travessias\nDelicioso almoço mineiro à vontade\nRetorno para a pousada passando por belas paisagens\, desafios e belezas naturais\nJantar na cidade com experiência gastronômica local \n📸 3° DIA – Rota Maria Augusta 🌿\nCachoeiras\, mirantes e muitos desafios 4×4 lhe esperam neste dia\nAlmoço mineiro à vontade\nPedreira e mirante para encerrar o dia\nJantar na cidade \n☕ 4° Último passeio e despedida 🚘\nCurtiremos pela manhã um delicioso complexo de cachoeiras\nAlmoço com a melhor carne de lata da Canastra\nEncerramento e despedida\nRetorno para a casa \nDICA: A CANASTRA É MUITO GRANDE PARA CONHECER EM UMA ÚNICA VIAGEM\nOs deslocamentos se tornam muito grandes e cansativos e você deixa de curtir melhor os atrativos. É por esse motivo que Jota Expedições tem 5 roteiros na Canastra para proporcionar a você uma melhor experiência \n😎 GOSTOU NÉ? QUER IR? 😎\nEnvie um WhatsApp para 11-96407-0127\nLIMITADO A 12 CARROS \n 
URL:https://jotaexpedicoes.com.br/calendario/canastra-gloria-saiba-mais-2/
LOCATION:São João Batista do Glória – MG
CATEGORIES:Expedição
ATTACH;FMTTYPE=image/jpeg:https://jotaexpedicoes.com.br/wp-content/uploads/12-1.jpg
END:VEVENT
BEGIN:VEVENT
DTSTART;VALUE=DATE:20261030
DTEND;VALUE=DATE:20261103
DTSTAMP:20260423T200719
CREATED:20260202T214614Z
LAST-MODIFIED:20260202T214627Z
UID:1504-1793318400-1793663999@jotaexpedicoes.com.br
SUMMARY:CANASTRA - CAPITÓLIO - SAIBA MAIS
DESCRIPTION:Tem um 4×4? Bora conhecer o paraíso em Minas Gerais \n😎 Viagem imperdível! Passa por muitos atrativos naturais como cachoeiras\, mirantes\, além de travessias e desafios offroad 🚜 \n🗓 QUANDO? 🗓\nDe 30/10 a 2/11 – Feriado de finados \n🗺 PARTE DE ONDE? 🗺\nHotel em Capitólio – MG \n🏞⛰☀️ CONHEÇA ☀️⛰🏞 \n🚘 Dia 1 – Deslocamento\, passeio de barco e confraternização 🛥️\nViaje tranquilo até nosso confortável hotel e encontre o pessoal para a confraternização de boas vindas. Faça um passeio de barco nos mais belos atrativos do lago de Furnas \n😎 Dia 2 – Rota da Pedreira 🥂\nCurta dois complexos de cachoeiras nesse dia\, além de um final de tarde mágico em uma pedreira com água cristalina e quentinha.\nAlmoço delicioso com buffet mineiro à vontade \n🚜 Dia 3 – Rota Cachoeiras 📸\nAproveite as muitas quedas e piscinas naturais em dois complexos de cachoeiras maravilhosas! São muitas opções.\nAlmoço mineiro delicioso e caseiro. Pôr do sol em mirante. \n💦 Dia 4 – Mirante dos cânions e despedida ⛰️\nFaça o último passeio no Mirante dos cânions\, o cartão postal de Capitólio.\nFinalize a expedição com um delicioso almoço na marina\nRetorne para a casa cansado fisicamente mas renovado mentalmente \nDICA: A CANASTRA É MUITO GRANDE PARA CONHECER EM UMA ÚNICA VIAGEM\nOs deslocamentos se tornam muito grandes e cansativos e você deixa de curtir melhor os atrativos. É por esse motivo que Jota Expedições tem 5 roteiros na Canastra para proporcionar a você uma melhor experiência \n😎 GOSTOU NÉ? QUER IR? 😎\nEnvie um WhatsApp para 11-96407-0127\nLIMITADO A 11 CARROS \n 
URL:https://jotaexpedicoes.com.br/calendario/canastra-capitolio-saiba-mais/
CATEGORIES:Expedição
ATTACH;FMTTYPE=image/jpeg:https://jotaexpedicoes.com.br/wp-content/uploads/13-1.jpg
END:VEVENT
BEGIN:VEVENT
DTSTART;VALUE=DATE:20261119
DTEND;VALUE=DATE:20261123
DTSTAMP:20260423T200719
CREATED:20260202T215029Z
LAST-MODIFIED:20260202T215216Z
UID:1502-1795046400-1795391999@jotaexpedicoes.com.br
SUMMARY:SERRA DAS BROAS - SAIBA MAIS
DESCRIPTION:Tire seu 4×4 da garagem\, leve a família para o paraíso das cachoeiras! 🙂 \n😎 Viagem imperdível! Passa por muitos mirantes e cachoeiras\, além de desafios off road 💪🏻 \n🗓 QUANDO? 🗓\nDe 19 a 22/11 – Feriado de consciência negra \n🗺 PARTE DE ONDE? 🗺\n– Restaurante em Cruzilia – MG \n🏞⛰☀️ CONHEÇA ☀️⛰🏞 \n🚘 Dia 1 – Deslocamento\, almoço e Estrada Real 🥳\n– Viaje no seu ritmo até o restaurante em Cruzilia e encontre os amigos\n– Percorra o trecho da Estrada Real até Carrancas – MG \n😎 Dia 2 – Cachoeiras e desafios\n– Conheça dois complexos com muitas cachoeiras e águas cristalinas\n– Almoço mineiro estilo caipira\n– Desafios 4×4 e mirante no final da tarde \n🚜 Dia 3 – 📸 Serra das Broas\n– Visite um complexo de cachoeiras e veja pinturas rupestres milenares\n– Enfrente desafios no caminho até um belo mirante \n💦 Dia 4 – Caverna\, cachoeiras e retorno 🚗\n– Conheça uma bela caverna e um complexo de cachoeiras de tirar o fôlego\n– Almoce e retorne para a casa com maravilhosas lembranças \n😎 GOSTOU NÉ? QUER IR? 😎\nInteressados devem enviar um WhatsApp para 11-96407-0127\nCorre que as vagas são LIMITADAS A 9 VIATURAS \n \n 
URL:https://jotaexpedicoes.com.br/calendario/serra-das-broas-saiba-mais/
LOCATION:Carrancas e Cruzília – MG
CATEGORIES:Expedição
ATTACH;FMTTYPE=image/jpeg:https://jotaexpedicoes.com.br/wp-content/uploads/14-1.jpg
END:VEVENT
END:VCALENDAR