BEGIN:VCALENDAR
VERSION:2.0
PRODID:-//Jota Expedições - ECPv6.15.1.1//NONSGML v1.0//EN
CALSCALE:GREGORIAN
METHOD:PUBLISH
X-ORIGINAL-URL:https://jotaexpedicoes.com.br
X-WR-CALDESC:Eventos para Jota Expedições
REFRESH-INTERVAL;VALUE=DURATION:PT1H
X-Robots-Tag:noindex
X-PUBLISHED-TTL:PT1H
BEGIN:VTIMEZONE
TZID:America/Sao_Paulo
BEGIN:STANDARD
TZOFFSETFROM:-0300
TZOFFSETTO:-0300
TZNAME:-03
DTSTART:20250101T000000
END:STANDARD
END:VTIMEZONE
BEGIN:VEVENT
DTSTART;VALUE=DATE:20250904
DTEND;VALUE=DATE:20250908
DTSTAMP:20260424T015045
CREATED:20241224T085716Z
LAST-MODIFIED:20250812T025752Z
UID:658-1756944000-1757289599@jotaexpedicoes.com.br
SUMMARY:VALE DO CODÓ - SAIBA MAIS
DESCRIPTION:Leve seu 4×4 e a família para passear nesse paraíso! 🙂 \n😎 Viagem imperdível! Passa por muitos mirantes e cachoeiras\, além de desafios off road 💪🏻 \n🗓 QUANDO? 🗓\nDe 4 a 7/9 – Feriado de Independência \n🗺 PARTE DE ONDE? 🗺\nPousada em Jaguariaíva – PR \n🪨 ⛰️ CONHEÇA ⛰️ 🪨 \n🏞⛰☀️ CONHEÇA ☀️⛰🏞 \n🚘 Dia 1 – Deslocamento e Parque Estadual Vale do Codó 🥳\nViaje no seu ritmo até o hotel em Jaguariaíva e encontre os amigos para um passeio no parque. Lá veremos belas cachoeiras \n😎 Dia 2 – Atrações de Arapoti ⛪️\nConheça belas cachoeiras e mirantes da cidade. Mergulhe na história e nas águas limpas da região \n🚜 Dia 3 – Rota das cachoeiras 📸\nVisite o vale do Jaguaricatu e curta cachoeiras\, desafios 4×4 e belas paisagens \n💦 Dia 4 – Triha do túnel e despedida ⛰️\nConheça o mais famoso túnel offroad enfrentando uma trilha alagada. Almoce com os amigos e retorne para a casa \n😎 GOSTOU NÉ? QUER IR? 😎\nEnvie um WhatsApp para 11-96407-0127\nLIMITADO A 12 CARROS
URL:https://jotaexpedicoes.com.br/calendario/vale-do-jaguaricatu-saiba-mais/
LOCATION:Sengés\, Jaguariaíva e Arapoti – PR
CATEGORIES:Expedição
ATTACH;FMTTYPE=image/jpeg:https://jotaexpedicoes.com.br/wp-content/uploads/VALE-DO-CODO-2025.jpg
END:VEVENT
END:VCALENDAR