BEGIN:VCALENDAR
VERSION:2.0
PRODID:-//Jota Expedições - ECPv6.15.1.1//NONSGML v1.0//EN
CALSCALE:GREGORIAN
METHOD:PUBLISH
X-ORIGINAL-URL:https://jotaexpedicoes.com.br
X-WR-CALDESC:Eventos para Jota Expedições
REFRESH-INTERVAL;VALUE=DURATION:PT1H
X-Robots-Tag:noindex
X-PUBLISHED-TTL:PT1H
BEGIN:VTIMEZONE
TZID:America/Sao_Paulo
BEGIN:STANDARD
TZOFFSETFROM:-0300
TZOFFSETTO:-0300
TZNAME:-03
DTSTART:20250101T000000
END:STANDARD
END:VTIMEZONE
BEGIN:VEVENT
DTSTART;VALUE=DATE:20250813
DTEND;VALUE=DATE:20250818
DTSTAMP:20260424T030551
CREATED:20241224T083550Z
LAST-MODIFIED:20250226T232002Z
UID:654-1755043200-1755475199@jotaexpedicoes.com.br
SUMMARY:ESTRADA REAL PT.2 - SAIBA MAIS
DESCRIPTION:Tire seu 4×4 da garagem\, leve a família para uma imersão na história! 🙂 \n😎 Viagem imperdível! Passa por muitos mirantes e cachoeiras\, além de desafios off road. Também proporciona excelentes experiências gastronômicas (queijos\, café\, cachaça) e muito mais 🧀 \n🗓 QUANDO? 🗓\nDe 13 a 17/8 \n🗺 PARTE DE ONDE? 🗺\n– Pousada em São João del Rei-MG \n🏞⛰☀️ CONHEÇA ☀️⛰🏞 \n🚘 Dia 1 – Deslocamento e confraternização 🥳\n– Viaje no seu ritmo até a pousada em São João del Rei e encontre os amigos para um passeio \n😎 Dia 2 – Conheça Tiradentes ⛪️\n– Conheça belas cachoeiras e mirantes no caminho. Mergulhe na história e nas águas limpas da região \n🚜 Dia 3 – De São João até Carrancas 📸\n– Desfile pela Estrada Real passando por represas\, cachoeiras\, desafios 4×4 e muita diversão \n💦 Dia 4 – De Carrancas 4 até São Lourenço ⛰️\n– Curta belas cachoeiras em Carrancas\n– Siga na Estrada Real desviando apenas para comer queijo\, ver mirantes e enfrentar desafios 4×4 \n🫠 Dia 5 – São Lourenço e retorno 🏠\n– Curta o hotel e conheça o parque das águas. Depois do passeio no centro histórico tem um delicioso almoço de encerramento\n– Volte pra casa com o físico cansado e mente renovada \nDICA: OS MELHORES ATRATIVOS DE CADA REGIÃO NÃO ESTÃO NA ESTRADA REAL\nAndar somente na Estrada Real faz com que os deslocamentos se sejam muito grandes e cansativos e você deixa de curtir os melhores atrativos. É por esse motivo que Jota Expedições tem 3 roteiros no caminho velho da Estrada Real. Os roteiros desviam um pouco para visitar os mais belos lugares\, proporcionando a você uma melhor experiência \n😎 GOSTOU NÉ? QUER IR? 😎\nEnvie um WhatsApp para 11-96407-0127\nLIMITADO A 12 CARROS \n 
URL:https://jotaexpedicoes.com.br/calendario/estrada-real-pt-2-saiba-mais/
LOCATION:De Tiradentes até São Lourenço – MG
CATEGORIES:Expedição
ATTACH;FMTTYPE=image/png:https://jotaexpedicoes.com.br/wp-content/uploads/ESTRADA-REAL-PT2-2025.png
END:VEVENT
END:VCALENDAR