BEGIN:VCALENDAR
VERSION:2.0
PRODID:-//Jota Expedições - ECPv6.15.1.1//NONSGML v1.0//EN
CALSCALE:GREGORIAN
METHOD:PUBLISH
X-WR-CALNAME:Jota Expedições
X-ORIGINAL-URL:https://jotaexpedicoes.com.br
X-WR-CALDESC:Eventos para Jota Expedições
REFRESH-INTERVAL;VALUE=DURATION:PT1H
X-Robots-Tag:noindex
X-PUBLISHED-TTL:PT1H
BEGIN:VTIMEZONE
TZID:America/Sao_Paulo
BEGIN:STANDARD
TZOFFSETFROM:-0300
TZOFFSETTO:-0300
TZNAME:-03
DTSTART:20250101T000000
END:STANDARD
END:VTIMEZONE
BEGIN:VEVENT
DTSTART;VALUE=DATE:20250618
DTEND;VALUE=DATE:20250623
DTSTAMP:20260424T053446
CREATED:20241219T214053Z
LAST-MODIFIED:20250405T004522Z
UID:637-1750204800-1750636799@jotaexpedicoes.com.br
SUMMARY:ESTRADA REAL PT.1 - SAIBA MAIS
DESCRIPTION:Tire seu 4×4 da garagem\, leve a família para uma imersão na história! 🙂 \n😎 Viagem imperdível! Passa por muitos mirantes e cachoeiras\, além de desafios off road. Também proporciona excelentes experiências gastronômicas (queijos\, café\, cachaça) e muito mais 🧀 \n🗓 QUANDO? 🗓\nDe 18 a 22/6 – Feriado de Corpus Christi \n🗺 PARTE DE ONDE? 🗺\nPousada em Ouro Preto \n🏞⛰☀️ CONHEÇA ☀️⛰🏞 \nPré expedição: Inicie sua viagem fazendo parte do deslocamento até Ouro Preto. Hotel e jantar inclusos no pacote \n🚘 Dia 1 – Deslocamento e confraternização 🥳\nViaje no seu ritmo até a pousada em Ouro Preto e encontre os amigos para um passeio no centro histórico \n😎 Dia 2 – Conheça Ouro Preto e Região ⛪️\nConheça belas cachoeiras e mirantes no caminho. Mergulhe na história e nas águas limpas da região \n🚜 Dia 3 – De Ouro Preto até São Brás de Suaçuí 📸\nDesfile pela Estrada Real passando por queijarias\, cachoeiras\, desafios 4×4 e muita diversão \n💦 Dia 4 – De São Brás de Suaçuí até Tiradentes ⛰️\nSiga na Estrada Real desviando apenas para coletar carimbos\, ver mirantes e enfrentar desafios 4×4. Finalize o passeio co um belo almoço de confraternização \nDICA: OS MELHORES ATRATIVOS DE CADA REGIÃO NÃO ESTÃO NA ESTRADA REAL\nAndar somente na Estrada Real faz com que os deslocamentos se sejam muito grandes e cansativos e você deixa de curtir os melhores atrativos. É por esse motivo que Jota Expedições tem 3 roteiros no caminho velho da Estrada Real. Os roteiros desviam um pouco para visitar os mais belos lugares\, proporcionando a você uma melhor experiência \n😎 GOSTOU NÉ? QUER IR? 😎\nEnvie um WhatsApp para 11-96407-0127\nLIMITADO A 10 CARROS
URL:https://jotaexpedicoes.com.br/calendario/estrada-real-pt-1-saiba-mais/
LOCATION:De Ouro Preto até Tiradentes – MG
CATEGORIES:Expedição
ATTACH;FMTTYPE=image/png:https://jotaexpedicoes.com.br/wp-content/uploads/ESTRADA-REAL-PT1-2025.png
END:VEVENT
END:VCALENDAR